BEGIN:VCALENDAR
VERSION:2.0
PRODID:-//KSG Verein - ECPv6.15.20//NONSGML v1.0//EN
CALSCALE:GREGORIAN
METHOD:PUBLISH
X-WR-CALNAME:KSG Verein
X-ORIGINAL-URL:https://ksg-koeln.de
X-WR-CALDESC:Veranstaltungen für KSG Verein
REFRESH-INTERVAL;VALUE=DURATION:PT1H
X-Robots-Tag:noindex
X-PUBLISHED-TTL:PT1H
BEGIN:VTIMEZONE
TZID:Europe/Berlin
BEGIN:DAYLIGHT
TZOFFSETFROM:+0100
TZOFFSETTO:+0200
TZNAME:CEST
DTSTART:20210328T010000
END:DAYLIGHT
BEGIN:STANDARD
TZOFFSETFROM:+0200
TZOFFSETTO:+0100
TZNAME:CET
DTSTART:20211031T010000
END:STANDARD
BEGIN:DAYLIGHT
TZOFFSETFROM:+0100
TZOFFSETTO:+0200
TZNAME:CEST
DTSTART:20220327T010000
END:DAYLIGHT
BEGIN:STANDARD
TZOFFSETFROM:+0200
TZOFFSETTO:+0100
TZNAME:CET
DTSTART:20221030T010000
END:STANDARD
BEGIN:DAYLIGHT
TZOFFSETFROM:+0100
TZOFFSETTO:+0200
TZNAME:CEST
DTSTART:20230326T010000
END:DAYLIGHT
BEGIN:STANDARD
TZOFFSETFROM:+0200
TZOFFSETTO:+0100
TZNAME:CET
DTSTART:20231029T010000
END:STANDARD
END:VTIMEZONE
BEGIN:VEVENT
DTSTART;TZID=Europe/Berlin:20220409T100000
DTEND;TZID=Europe/Berlin:20220409T150000
DTSTAMP:20260419T233742
CREATED:20220224T131949Z
LAST-MODIFIED:20220317T114613Z
UID:7206-1649498400-1649516400@ksg-koeln.de
SUMMARY:interne Weiterbildung für Gruppenhelfer bei der Anfängerbetreuung
DESCRIPTION:Frage nicht\, was der Verein für dich tun kann – frage\, was du für den Verein tun kannst! \nWer hilft dem Verein und unterstützt die Trainer bei der Betreuung der Anfänger in den Schnupperstunden\, dem betreuten Anfängerpaddeln und bei den Anfängerkursen? \nDie Grundlagen der Anfängerbetreuung\, die wichtigsten Übungen und die Herangehensweise bei typischen Einsteigerfehlern werden im Vorbereitungstreffen am 09.04.2022 vermittelt. Igor wird von 10.00 bis ca. 12.00 Uhr die Theorie erläutern und alle Fragen beantworten. Nach einer Mittagspause gehen wir um 13.00 Uhr aufs Wasser\, um Übungen zu machen zum Beispiel zu Rettungssituationen usw. \nWer sich angesprochen fühlt\, melde sich bitte vorher bei Sonja an. \nWir freuen uns auf Euch! \nViele Grüße\, \nIgor und Sonja
URL:https://ksg-koeln.de/event/interne-weiterbildung-fuer-gruppenhelfer-bei-der-anfaengerbetreuung/
LOCATION:KSG Verein\, Alfred-Schütte-Allee 32\, Köln\, 51105\, Deutschland
CATEGORIES:Freizeitsport,Gemeinschaft
ATTACH;FMTTYPE=image/jpeg:https://ksg-koeln.de/wp-content/uploads/2021/01/170610-154623_WoDo-0445-scaled.jpg
ORGANIZER;CN="KSG Verein":MAILTO:info@ksg-koeln.de
END:VEVENT
END:VCALENDAR